BEGIN:VCALENDAR
VERSION:2.0
PRODID:-//jEvents 2.0 for Joomla//EN
CALSCALE:GREGORIAN
METHOD:PUBLISH
BEGIN:VEVENT
UID:3542b367796ff3c7013bd46603e5b1c0
CATEGORIES:Online
CREATED:20260206T093806
SUMMARY:Auditing ESG: A strategic overview
LOCATION:Live\, virtual (UK)
DESCRIPTION:Our course on environmental, social and governance matters are the perfect 
 starting point for learning about ESG and proved to be one of our most popu
 lar courses over 2022-2025!  The Chartered Institute’s Risk In Focus 2024 s
 urvey has once again highlighted ESG as a key area of concern for increasin
 g numbers of CAEs across Europe, whatever size, sector or scale of internal
  audit team. Join us on this course to gain a focused overview of ESG, with
  each element broken down into key, topical areas of interest, risk and aud
 it activity. As an extra bonus, we’ve updated this course again for 2026!\n
 Check out: Auditing ESG: A strategic overview (iia.org.uk) (https://events.
 iia.org.uk/training-courses/live-virtual-courses/auditing-esg-a-strategic-o
 verview/)\n
X-ALT-DESC;FMTTYPE=text/html:<p>Our course on environmental, social and governance matters are the perfe
 ct starting point for learning about ESG and proved to be one of our most p
 opular courses over 2022-2025!&nbsp; The Chartered Institute’s Risk In Focu
 s 2024 survey has once again highlighted ESG as a key area of concern for i
 ncreasing numbers of CAEs across Europe, whatever size, sector or scale of 
 internal audit team. Join us on this course to gain a focused overview of E
 SG, with each element broken down into key, topical areas of interest, risk
  and audit activity. As an extra bonus, we’ve updated this course again for
  2026!</p><p>Check out:&nbsp;<a href="https://events.iia.org.uk/training-co
 urses/live-virtual-courses/auditing-esg-a-strategic-overview/">Auditing ESG
 : A strategic overview (iia.org.uk)</a></p>
CONTACT:https://charterediia.org/training-courses/
X-EXTRAINFO:Chartered Institute of Internal Auditors
DTSTAMP:20260422T080438
DTSTART:20270113T080000
DTEND:20270113T170000
SEQUENCE:0
TRANSP:OPAQUE
END:VEVENT
END:VCALENDAR