BEGIN:VCALENDAR
VERSION:2.0
PRODID:-//jEvents 2.0 for Joomla//EN
CALSCALE:GREGORIAN
METHOD:PUBLISH
BEGIN:VEVENT
UID:74b03553e651662bc3dab201bf630beb
CATEGORIES:Online
CREATED:20251204T180835
SUMMARY:Effective Root Cause Analysis for Internal Auditors
LOCATION:Live\, virtual\, Czech Republic
DESCRIPTION:https://www.interniaudit.cz/en/about-us (https://www.interniaudit.cz/en/abo
 ut-us)\n
X-ALT-DESC;FMTTYPE=text/html:<p><a href="https://www.interniaudit.cz/en/about-us">https://www.interniaud
 it.cz/en/about-us</a></p>
X-EXTRAINFO:Czech Institute of Internal Auditors
DTSTAMP:20260426T024440
DTSTART;VALUE=DATE:20260427
DTEND;VALUE=DATE:20260428
SEQUENCE:0
TRANSP:OPAQUE
END:VEVENT
END:VCALENDAR