BEGIN:VCALENDAR
VERSION:2.0
PRODID:-//jEvents 2.0 for Joomla//EN
CALSCALE:GREGORIAN
METHOD:PUBLISH
BEGIN:VEVENT
UID:5cc8587927a8ec8825b5d968452642ee
CATEGORIES:Online
CREATED:20251028T221035
SUMMARY:Conflict Management and Difficult Conversations for Internal Auditors
LOCATION:Live\, virtual\, Luxembourg
DESCRIPTION:IIA Luxembourg | IIA Luxembourg (https://www.iia.lu/iia-luxembourg)\n
X-ALT-DESC;FMTTYPE=text/html:<p><a href="https://www.iia.lu/iia-luxembourg">IIA Luxembourg | IIA Luxembo
 urg</a></p>
X-EXTRAINFO:Institute of Internal Auditors Luxembourg
DTSTAMP:20260422T075414
DTSTART;VALUE=DATE:20260702
DTEND;VALUE=DATE:20260703
SEQUENCE:0
TRANSP:OPAQUE
END:VEVENT
END:VCALENDAR