BEGIN:VCALENDAR
VERSION:2.0
PRODID:-//jEvents 2.0 for Joomla//EN
CALSCALE:GREGORIAN
METHOD:PUBLISH
BEGIN:VEVENT
UID:a460eff625a4c7c218a7f18d7fe4ec71
CATEGORIES:Online
CREATED:20251028T220917
SUMMARY:Auditing ESG - A Strategic Overview
LOCATION:Live\, virtual\, Luxembourg
DESCRIPTION:<p><a href="https://www.iia.lu/iia-luxembourg">IIA Luxembourg | IIA Luxembo
 urg</a></p>
X-EXTRAINFO:Institute of Internal Auditors Luxembourg
DTSTAMP:20260422T081024
DTSTART;VALUE=DATE:20261116
DTEND;VALUE=DATE:20261117
SEQUENCE:0
TRANSP:OPAQUE
END:VEVENT
END:VCALENDAR