BEGIN:VCALENDAR
VERSION:2.0
PRODID:-//jEvents 2.0 for Joomla//EN
CALSCALE:GREGORIAN
METHOD:PUBLISH
BEGIN:VEVENT
UID:64b9227fbd164e19e3c0b9798eabf98c
CATEGORIES:Online
CREATED:20251028T220740
SUMMARY:Effective Internal Audit Performance Measures: Capturing Influence and Impact 
LOCATION:Live\, virtual\, Luxembourg
DESCRIPTION:IIA Luxembourg | IIA Luxembourg (https://www.iia.lu/iia-luxembourg)\n
X-ALT-DESC;FMTTYPE=text/html:<p><a href="https://www.iia.lu/iia-luxembourg">IIA Luxembourg | IIA Luxembo
 urg</a></p>
X-EXTRAINFO:Institute of Internal Auditors Luxembourg
DTSTAMP:20260422T075211
DTSTART;VALUE=DATE:20261026
DTEND;VALUE=DATE:20260626
SEQUENCE:0
TRANSP:OPAQUE
END:VEVENT
END:VCALENDAR