BEGIN:VCALENDAR
VERSION:2.0
PRODID:-//jEvents 2.0 for Joomla//EN
CALSCALE:GREGORIAN
METHOD:PUBLISH
BEGIN:VEVENT
UID:a3300da443d634d7e161cd39351cf97e
CATEGORIES:Online
CREATED:20251028T220520
SUMMARY:Effective Root Cause Analysis for Internal Auditors
LOCATION:Live\, virtual\, Luxembourg
DESCRIPTION:<p><a href="https://www.iia.lu/iia-luxembourg">IIA Luxembourg | IIA Luxembo
 urg</a></p>
X-EXTRAINFO:Institute of Internal Auditors Luxembourg
DTSTAMP:20260422T080302
DTSTART;VALUE=DATE:20260928
DTEND;VALUE=DATE:20260929
SEQUENCE:0
TRANSP:OPAQUE
END:VEVENT
END:VCALENDAR