BEGIN:VCALENDAR
VERSION:2.0
PRODID:-//jEvents 2.0 for Joomla//EN
CALSCALE:GREGORIAN
METHOD:PUBLISH
BEGIN:VEVENT
UID:ee5ca5d8c9da7a01e95bed69d09176f6
CATEGORIES:Online
CREATED:20251028T220408
SUMMARY:Auditing Human Resources and People Risk 
LOCATION:Live\, virtual\, Luxembourg
DESCRIPTION:<p><a href="https://www.iia.lu/iia-luxembourg">IIA Luxembourg | IIA Luxembo
 urg</a></p>
X-EXTRAINFO:Institute of Internal Auditors Luxembourg
DTSTAMP:20260422T080144
DTSTART;VALUE=DATE:20261028
DTEND;VALUE=DATE:20261029
SEQUENCE:0
TRANSP:OPAQUE
END:VEVENT
END:VCALENDAR