BEGIN:VCALENDAR
VERSION:2.0
PRODID:-//jEvents 2.0 for Joomla//EN
CALSCALE:GREGORIAN
METHOD:PUBLISH
BEGIN:VEVENT
UID:10f2ddc22946d36864efab02fe8d4694
CATEGORIES:Online
CREATED:20251028T220235
SUMMARY:Auditing Third Party Risk
LOCATION:Live\, virtual\, Luxembourg
DESCRIPTION:<p><a href="https://www.iia.lu/iia-luxembourg">IIA Luxembourg | IIA Luxembo
 urg</a></p>
X-EXTRAINFO:Institute of Internal Auditors Luxembourg
DTSTAMP:20260422T080325
DTSTART;VALUE=DATE:20260618
DTEND;VALUE=DATE:20260619
SEQUENCE:0
TRANSP:OPAQUE
END:VEVENT
END:VCALENDAR