BEGIN:VCALENDAR
VERSION:2.0
PRODID:-//jEvents 2.0 for Joomla//EN
CALSCALE:GREGORIAN
METHOD:PUBLISH
BEGIN:VEVENT
UID:9b85ebaaa8b047bfac07939d8bd8f60e
CATEGORIES:Online
CREATED:20251025T134855
SUMMARY:Effective Agile Internal Auditing
LOCATION:In-person\, Tirana\, Albania
DESCRIPTION:<p>IIA Albania</p>
X-EXTRAINFO:Institute of Internal Auditors Albania
DTSTAMP:20260422T080010
DTSTART:20260622T080000
DTEND:20260623T170000
SEQUENCE:0
TRANSP:OPAQUE
END:VEVENT
END:VCALENDAR