BEGIN:VCALENDAR
VERSION:2.0
PRODID:-//jEvents 2.0 for Joomla//EN
CALSCALE:GREGORIAN
METHOD:PUBLISH
BEGIN:VEVENT
UID:144874fa1fe9c0cb2cdfa7b373ee5be4
CATEGORIES:Online
CREATED:20251011T072141
SUMMARY:Auditing climate risk and environmental sustainability: An Esg masterclass
LOCATION:Live\, virtual (UK)
DESCRIPTION:Auditing climate risk and environmental sustainability: An ESG masterclass 
 (iia.org.uk) (https://events.iia.org.uk/training-courses/live-virtual-cours
 es/auditing-climate-risk-and-environmental-sustainability-an-esg-masterclas
 s/)\n
X-ALT-DESC;FMTTYPE=text/html:<p><a href="https://events.iia.org.uk/training-courses/live-virtual-courses
 /auditing-climate-risk-and-environmental-sustainability-an-esg-masterclass/
 ">Auditing climate risk and environmental sustainability: An ESG masterclas
 s (iia.org.uk)</a></p>
CONTACT:https://charterediia.org/training-courses/
X-EXTRAINFO:Chartered Institute of Internal Auditors
DTSTAMP:20260422T080432
DTSTART:20261009T080000
DTEND:20261009T170000
SEQUENCE:0
TRANSP:OPAQUE
END:VEVENT
END:VCALENDAR