BEGIN:VCALENDAR
VERSION:2.0
PRODID:-//jEvents 2.0 for Joomla//EN
CALSCALE:GREGORIAN
METHOD:PUBLISH
BEGIN:VEVENT
UID:48aa99b46101bb311ee882a57de83253
CATEGORIES:Online
CREATED:20251011T072051
SUMMARY:Sanctions: It's a world of pain out there (AM)
LOCATION:Live\, virtual (UK)
DESCRIPTION:<p><a href="https://events.iia.org.uk/training-courses/live-virtual-courses
 /sanctions-its-a-world-of-pain-out-there/">Sanctions: It's a world of pain 
 out there (iia.org.uk)</a></p>
CONTACT:https://charterediia.org/training-courses/
X-EXTRAINFO:Chartered Institute of Internal Auditors
DTSTAMP:20260422T081655
DTSTART:20260908T080000
DTEND:20260908T170000
SEQUENCE:0
TRANSP:OPAQUE
END:VEVENT
END:VCALENDAR