BEGIN:VCALENDAR
VERSION:2.0
PRODID:-//jEvents 2.0 for Joomla//EN
CALSCALE:GREGORIAN
METHOD:PUBLISH
BEGIN:VEVENT
UID:5936d8cd3a8e6c00d8a17446467abe3c
CATEGORIES:Online
CREATED:20251011T071937
SUMMARY:Auditing ESG: A strategic overview
LOCATION:Live\, virtual (UK)
DESCRIPTION:Our course on environmental, social and governance matters are the perfect 
 starting point for learning about ESG and proved to be one of our most popu
 lar courses in 2022-2025!  The Chartered Institute’s Risk In Focus 2024 sur
 vey has once again highlighted ESG as a key area of concern for increasing 
 numbers of CAEs across Europe, whatever size, sector or scale of internal a
 udit team. Join us on this course to gain a focused overview of ESG, with e
 ach element broken down into key, topical areas of interest, risk and audit
  activity. As an extra bonus, we’ve updated this course again for 2026!\nCh
 eck out: Auditing ESG: A strategic overview (iia.org.uk) (https://events.ii
 a.org.uk/training-courses/live-virtual-courses/auditing-esg-a-strategic-ove
 rview/)\n
X-ALT-DESC;FMTTYPE=text/html:<p>Our course on environmental, social and governance matters are the perfe
 ct starting point for learning about ESG and proved to be one of our most p
 opular courses in 2022-2025!&nbsp; The Chartered Institute’s Risk In Focus 
 2024 survey has once again highlighted ESG as a key area of concern for inc
 reasing numbers of CAEs across Europe, whatever size, sector or scale of in
 ternal audit team. Join us on this course to gain a focused overview of ESG
 , with each element broken down into key, topical areas of interest, risk a
 nd audit activity. As an extra bonus, we’ve updated this course again for 2
 026!</p><p>Check out:&nbsp;<a href="https://events.iia.org.uk/training-cour
 ses/live-virtual-courses/auditing-esg-a-strategic-overview/">Auditing ESG: 
 A strategic overview (iia.org.uk)</a></p>
CONTACT:https://charterediia.org/training-courses/
X-EXTRAINFO:Chartered Institute of Internal Auditors
DTSTAMP:20260422T075339
DTSTART:20260703T080000
DTEND:20260703T170000
SEQUENCE:0
TRANSP:OPAQUE
END:VEVENT
END:VCALENDAR