BEGIN:VCALENDAR
VERSION:2.0
PRODID:-//jEvents 2.0 for Joomla//EN
CALSCALE:GREGORIAN
METHOD:PUBLISH
BEGIN:VEVENT
UID:a0e0fa10fdacd7c165d399b53cae91a0
CATEGORIES:Online
CREATED:20251011T071842
SUMMARY:Auditing Corporate Governance: An esG Masterclass
LOCATION:Live\, virtual (UK)
DESCRIPTION:<p>More information and how to book :&nbsp;</p><p><a href="https://events.i
 ia.org.uk/training-courses/live-virtual-courses/auditing-corporate-governan
 ce-an-esg-masterclass/">Auditing corporate governance: An ESG masterclass (
 iia.org.uk)</a></p><p>&nbsp;</p>
CONTACT:https://charterediia.org/training-courses/
X-EXTRAINFO:Chartered Institute of Internal Auditors
DTSTAMP:20260426T025057
DTSTART;VALUE=DATE:20270308
DTEND;VALUE=DATE:20270309
SEQUENCE:0
TRANSP:OPAQUE
END:VEVENT
END:VCALENDAR