BEGIN:VCALENDAR
VERSION:2.0
PRODID:-//jEvents 2.0 for Joomla//EN
CALSCALE:GREGORIAN
METHOD:PUBLISH
BEGIN:VEVENT
UID:b6dbe38db70f641d348ec518e2a3507d
CATEGORIES:Online
CREATED:20251011T071806
SUMMARY:Auditing Corporate Governance: An esG Masterclass
LOCATION:Live\, virtual (UK)
DESCRIPTION:More information and how to book : \nAuditing corporate governance: An ESG 
 masterclass (iia.org.uk) (https://events.iia.org.uk/training-courses/live-v
 irtual-courses/auditing-corporate-governance-an-esg-masterclass/)\n \n
X-ALT-DESC;FMTTYPE=text/html:<p>More information and how to book :&nbsp;</p><p><a href="https://events.i
 ia.org.uk/training-courses/live-virtual-courses/auditing-corporate-governan
 ce-an-esg-masterclass/">Auditing corporate governance: An ESG masterclass (
 iia.org.uk)</a></p><p>&nbsp;</p>
CONTACT:https://charterediia.org/training-courses/
X-EXTRAINFO:Chartered Institute of Internal Auditors
DTSTAMP:20260422T080421
DTSTART;VALUE=DATE:20260527
DTEND;VALUE=DATE:20260528
SEQUENCE:0
TRANSP:OPAQUE
END:VEVENT
END:VCALENDAR