BEGIN:VCALENDAR
VERSION:2.0
PRODID:-//jEvents 2.0 for Joomla//EN
CALSCALE:GREGORIAN
METHOD:PUBLISH
BEGIN:VEVENT
UID:a606fc69be48b17a8325f90bb0d9ecd7
CATEGORIES:Online
CREATED:20251011T071701
SUMMARY:Auditing Management Information and Digital (AM)
LOCATION:Live\, virtual (UK)
DESCRIPTION:Our key stakeholders require internal audit engagements that are insightful
 , forward looking, and go beyond simply preserving value to creating value 
 for our organisations. This accelerated course will show you where you can 
 begin to provide effective, professional internal audit assurance on these 
 critical subjects, enabling you to deliver well-received engagements that d
 eliver the insight our boards need.\nOur Risk in Focus 2021 survey reported
  that, “Data and information - whether customer credentials or intellectual
  property - are economic assets on which all organisations depend.”\nBut ho
 w good is your organisation’s management information and the ways in which 
 it manages this information?\nCompanies may no longer have a true picture o
 f the extent of digitalisation within their organisation, who is responsibl
 e for it, the quality of the information produced and where the risks lie. 
 In an effort to drive swift change, digitalisation may proliferate unchecke
 d and key controls may not be paid their due attention, increasing security
  and data privacy vulnerabilities.\nDo you want to stay ahead of the game a
 nd hear more about effective management information, information management
  and how digitalisation brings new opportunities and threats to any organis
 ation?\nWith digitalisation shifting up a gear, the third line's first conc
 ern should be whether the business model is being sufficiently adapted to m
 eet the new digital reality.\nAttend this course either in the morning or t
 he afternoon.\n
X-ALT-DESC;FMTTYPE=text/html:<p>Our key stakeholders require internal audit engagements that are insight
 ful, forward looking, and go beyond simply preserving value to creating val
 ue for our organisations. This accelerated course will show you where you c
 an begin to provide effective, professional internal audit assurance on the
 se critical subjects, enabling you to deliver well-received engagements tha
 t deliver the insight our boards need.</p><p>Our Risk in Focus 2021 survey 
 reported that, “Data and information - whether customer credentials or inte
 llectual property - are economic assets on which all organisations depend.”
 </p><p>But how good is your organisation’s management information and the w
 ays in which it manages this information?</p><p>Companies may no longer hav
 e a true picture of the extent of digitalisation within their organisation,
  who is responsible for it, the quality of the information produced and whe
 re the risks lie. In an effort to drive swift change, digitalisation may pr
 oliferate unchecked and key controls may not be paid their due attention, i
 ncreasing security and data privacy vulnerabilities.</p><p>Do you want to s
 tay ahead of the game and hear more about effective management information,
  information management and how digitalisation brings new opportunities and
  threats to any organisation?</p><p>With digitalisation shifting up a gear,
  the third line's first concern should be whether the business model is bei
 ng sufficiently adapted to meet the new digital reality.</p><p>Attend this 
 course either in the morning or the afternoon.</p>
CONTACT:https://charterediia.org/training-courses/
X-EXTRAINFO:Chartered Institute of Internal Auditors
DTSTAMP:20260422T080559
DTSTART:20260526T080000
DTEND:20260526T170000
SEQUENCE:0
TRANSP:OPAQUE
END:VEVENT
END:VCALENDAR