BEGIN:VCALENDAR
VERSION:2.0
PRODID:-//jEvents 2.0 for Joomla//EN
CALSCALE:GREGORIAN
METHOD:PUBLISH
BEGIN:VEVENT
UID:d76309d2b285930afd8361c63ae6e86c
CATEGORIES:Online
CREATED:20251011T071420
SUMMARY:Effective Internal Audit Performance Measures: capturing influence and impact 
LOCATION:Live\, virtual (UK)
DESCRIPTION:<p><a href="https://events.iia.org.uk/training-courses/live-virtual-courses
 /">Live virtual courses | IIA</a></p>
CONTACT:https://charterediia.org/training-courses/
X-EXTRAINFO:Chartered Institute of Internal Auditors
DTSTAMP:20260422T080241
DTSTART:20260907T080000
DTEND:20260907T170000
SEQUENCE:0
TRANSP:OPAQUE
END:VEVENT
END:VCALENDAR