BEGIN:VCALENDAR
VERSION:2.0
PRODID:-//jEvents 2.0 for Joomla//EN
CALSCALE:GREGORIAN
METHOD:PUBLISH
BEGIN:VEVENT
UID:bcd139a387038b60bfd58e45a4e49b10
CATEGORIES:Online
CREATED:20250919T072137
SUMMARY:How to effectively audit compliance risk and add real value
LOCATION:Live\, virtual\, Sofia (Bulgaria)
DESCRIPTION:<p><a href="https://iiabg.org/">www.iiabg.org</a></p>
X-EXTRAINFO:Institute of Internal Auditors Bulgaria
DTSTAMP:20260426T024155
DTSTART:20261019T080000
DTEND:20261019T170000
SEQUENCE:0
TRANSP:OPAQUE
END:VEVENT
END:VCALENDAR