BEGIN:VCALENDAR
VERSION:2.0
PRODID:-//jEvents 2.0 for Joomla//EN
CALSCALE:GREGORIAN
METHOD:PUBLISH
BEGIN:VEVENT
UID:d5a3c9f60ba7ea440a9c3bd55274b56f
CATEGORIES:Online
CREATED:20250919T072037
SUMMARY:Auditing risk management: an assurance masterclass
LOCATION:Live\, virtual\, Sofia (Bulgaria)
DESCRIPTION:www.iiabg.org (https://iiabg.org/)\n
X-ALT-DESC;FMTTYPE=text/html:<p><a href="https://iiabg.org/">www.iiabg.org</a></p>
X-EXTRAINFO:Institute of Internal Auditors Bulgaria
DTSTAMP:20260422T075510
DTSTART:20260528T080000
DTEND:20260528T170000
SEQUENCE:0
TRANSP:OPAQUE
END:VEVENT
END:VCALENDAR