BEGIN:VCALENDAR
VERSION:2.0
PRODID:-//jEvents 2.0 for Joomla//EN
CALSCALE:GREGORIAN
METHOD:PUBLISH
BEGIN:VEVENT
UID:b173ec4a61bd3680c2f466a4da313093
CATEGORIES:Online
CREATED:20250919T071414
SUMMARY:Effective interviewing skills and techniques for internal auditors
LOCATION:Live\, virtual\, Sofia (Bulgaria)
DESCRIPTION:www.iiabg.org (https://iiabg.org/)\n
X-ALT-DESC;FMTTYPE=text/html:<p><a href="https://iiabg.org/">www.iiabg.org</a></p>
X-EXTRAINFO:Institute of Internal Auditors Bulgaria
DTSTAMP:20260422T075343
DTSTART:20260914T080000
DTEND:20260914T170000
SEQUENCE:0
TRANSP:OPAQUE
END:VEVENT
END:VCALENDAR