BEGIN:VCALENDAR
VERSION:2.0
PRODID:-//jEvents 2.0 for Joomla//EN
CALSCALE:GREGORIAN
METHOD:PUBLISH
BEGIN:VEVENT
UID:0f6391af27b72ed9e8047328789b827c
CATEGORIES:Online
CREATED:20250827T141630
SUMMARY:Certificate in Internal Audit Excellence (CIAE)
LOCATION:In-person\, Dubai (UAE)
DESCRIPTION:Why AttendToday’s chief audit executives, their deputies and internal audit
  managers need to work closely with business leaders, boards, audit committ
 ees, peers and their own audit teams. Now more than ever, leadership, stake
 holder relations and influencing skills are becoming as important as managi
 ng a team, planning and delivering insightful internal audit assurance and 
 consulting engagements.\nThis course focuses on the various challenges and 
 opportunities internal audit leaders face and shows how audit leaders can m
 ake a contribution at a strategic level, clearly adding value and also enha
 ncing productivity in the audit process.\nThis clear, practical and interac
 tive course will help participants improve their awareness and skills and h
 elp them become a better internal audit leader who delivers impactful and i
 nsightful internal audit work that can make a strategic difference to their
  organization.\nCourse MethodologyA blend of theoretical, technical, discur
 sive and practical approaches.  It will include facilitator-led input sessi
 ons, and numerous team exercises based around practical internal audit situ
 ations, case studies, group presentations, discussions and debates.\nCourse
  ObjectivesBy the end of the course, participants will be able to:\n\n - De
 monstrate greater confidence in dealing with senior leaders\n - Appraise wh
 at it really takes to be an effective internal audit leader\n - Explain how
  to make an effective and valuable contributions at a strategic level and t
 owards overall business success\n - Apply practical methods to manage key r
 elationships with the audit committee, senior management and peers\n - Add 
 value through efficient and effective internal audit good practices\n - Exp
 lain key priorities for them and their departments to help maximize their c
 ontribution to their organizationTarget AudienceChief audit executives, dep
 uty heads of audit, internal audit managers and senior internal auditors wh
 o deal with business leaders and/or lead or manage members of the internal 
 audit team. This course is equally valuable for both in-house and outsource
 d internal audit teams.\nTarget Competencies\n - Internal audit management\
 n - Improvement and innovation\n - Internal audit delivery\n - Persuasion a
 nd collaboration\n - Governance, risk and control enhancementMore informati
 on and how to book : \n (https://www.meirc.com/training-courses/auditing-go
 vernance-risk-compliance/high-impact-internal-audit-leadership)https://www.
 meirc.com/training-courses/auditing-governance-risk-compliance/high-impact-
 internal-audit-leadership (https://www.meirc.com/training-courses/auditing-
 governance-risk-compliance/high-impact-internal-audit-leadership)/ (https:/
 /www.iia.org.uk/training-and-events/training-courses/auditing-specialist-to
 pics/auditing-human-resources-and-people-risk/)
X-ALT-DESC;FMTTYPE=text/html:<h2>Why Attend</h2><p>Today’s chief audit executives, their deputies and in
 ternal audit managers need to work closely with business leaders, boards, a
 udit committees, peers and their own audit teams. Now more than ever, leade
 rship, stakeholder relations and influencing skills are becoming as importa
 nt as managing a team, planning and delivering insightful internal audit as
 surance and consulting engagements.</p><p>This course focuses on the variou
 s challenges and opportunities internal audit leaders face and shows how au
 dit leaders can make a contribution at a strategic level, clearly adding va
 lue and also enhancing productivity in the audit process.</p><p>This clear,
  practical and interactive course will help participants improve their awar
 eness and skills and help them become a better internal audit leader who de
 livers impactful and insightful internal audit work that can make a strateg
 ic difference to their organization.</p><hr /><h2>Course Methodology</h2><p
 >A blend of theoretical, technical, discursive and practical approaches.&nb
 sp; It will include facilitator-led input sessions, and numerous team exerc
 ises based around practical internal audit situations, case studies, group 
 presentations, discussions and debates.</p><hr /><h2>Course Objectives</h2>
 <p>By the end of the course, participants will be able to:</p><ul><li>Demon
 strate greater confidence in dealing with senior leaders</li><li>Appraise w
 hat it really takes to be an effective internal audit leader</li><li>Explai
 n how to make an effective and valuable contributions at a strategic level 
 and towards overall business success</li><li>Apply practical methods to man
 age key relationships with the audit committee, senior management and peers
 </li><li>Add value through efficient and effective internal audit good prac
 tices</li><li>Explain key priorities for them and their departments to help
  maximize their contribution to their organization</li></ul><hr /><h2>Targe
 t Audience</h2><p>Chief audit executives, deputy heads of audit, internal a
 udit managers and senior internal auditors who deal with business leaders a
 nd/or lead or manage members of the internal audit team. This course is equ
 ally valuable for both in-house and outsourced internal audit teams.</p><hr
  /><h2>Target Competencies</h2><div id="competenciesCol1"><ul><li>Internal 
 audit management</li><li>Improvement and innovation</li><li>Internal audit 
 delivery</li><li>Persuasion and collaboration</li><li>Governance, risk and 
 control enhancement</li></ul><h5>More information and how to book : <br /><
 a href="https://www.meirc.com/training-courses/auditing-governance-risk-com
 pliance/high-impact-internal-audit-leadership"></a><a href="https://www.mei
 rc.com/training-courses/auditing-governance-risk-compliance/high-impact-int
 ernal-audit-leadership">https://www.meirc.com/training-courses/auditing-gov
 ernance-risk-compliance/high-impact-internal-audit-leadership</a><a href="h
 ttps://www.iia.org.uk/training-and-events/training-courses/auditing-special
 ist-topics/auditing-human-resources-and-people-risk/" target="_blank" rel="
 noopener noreferrer" title="More info on course">/</a></h5></div>
X-EXTRAINFO:MEIRC/Plus Speciality Training
DTSTAMP:20260422T080437
DTSTART;VALUE=DATE:20261101
DTEND;VALUE=DATE:20261106
SEQUENCE:0
TRANSP:OPAQUE
END:VEVENT
END:VCALENDAR