BEGIN:VCALENDAR
VERSION:2.0
PRODID:-//jEvents 2.0 for Joomla//EN
CALSCALE:GREGORIAN
METHOD:PUBLISH
BEGIN:VEVENT
UID:95a2e5af921c798c0a65d35b31ca2cca
CATEGORIES:Online
CREATED:20250827T141356
SUMMARY:High Impact Internal Audit Leadership
LOCATION:In-person\, Dubai (UAE)
DESCRIPTION:<h2>Why Attend</h2><p>Today’s chief audit executives, their deputies and in
 ternal audit managers need to work closely with business leaders, boards, a
 udit committees, peers and their own audit teams. Now more than ever, leade
 rship, stakeholder relations and influencing skills are becoming as importa
 nt as managing a team, planning and delivering insightful internal audit as
 surance and consulting engagements.</p><p>This course focuses on the variou
 s challenges and opportunities internal audit leaders face and shows how au
 dit leaders can make a contribution at a strategic level, clearly adding va
 lue and also enhancing productivity in the audit process.</p><p>This clear,
  practical and interactive course will help participants improve their awar
 eness and skills and help them become a better internal audit leader who de
 livers impactful and insightful internal audit work that can make a strateg
 ic difference to their organization.</p><hr /><h2>Course Methodology</h2><p
 >A blend of theoretical, technical, discursive and practical approaches.&nb
 sp; It will include facilitator-led input sessions, and numerous team exerc
 ises based around practical internal audit situations, case studies, group 
 presentations, discussions and debates.</p><hr /><h2>Course Objectives</h2>
 <p>By the end of the course, participants will be able to:</p><ul><li>Demon
 strate greater confidence in dealing with senior leaders</li><li>Appraise w
 hat it really takes to be an effective internal audit leader</li><li>Explai
 n how to make an effective and valuable contributions at a strategic level 
 and towards overall business success</li><li>Apply practical methods to man
 age key relationships with the audit committee, senior management and peers
 </li><li>Add value through efficient and effective internal audit good prac
 tices</li><li>Explain key priorities for them and their departments to help
  maximize their contribution to their organization</li></ul><hr /><h2>Targe
 t Audience</h2><p>Chief audit executives, deputy heads of audit, internal a
 udit managers and senior internal auditors who deal with business leaders a
 nd/or lead or manage members of the internal audit team. This course is equ
 ally valuable for both in-house and outsourced internal audit teams.</p><hr
  /><h2>Target Competencies</h2><div id="competenciesCol1"><ul><li>Internal 
 audit management</li><li>Improvement and innovation</li><li>Internal audit 
 delivery</li><li>Persuasion and collaboration</li><li>Governance, risk and 
 control enhancement</li></ul><h5>More information and how to book : <br /><
 a href="https://www.meirc.com/training-courses/auditing-governance-risk-com
 pliance/high-impact-internal-audit-leadership"></a><a href="https://www.mei
 rc.com/training-courses/auditing-governance-risk-compliance/high-impact-int
 ernal-audit-leadership">https://www.meirc.com/training-courses/auditing-gov
 ernance-risk-compliance/high-impact-internal-audit-leadership</a><a href="h
 ttps://www.iia.org.uk/training-and-events/training-courses/auditing-special
 ist-topics/auditing-human-resources-and-people-risk/" target="_blank" rel="
 noopener noreferrer" title="More info on course">/</a></h5></div>
X-EXTRAINFO:MEIRC/Plus Speciality Training
DTSTAMP:20260422T080026
DTSTART;VALUE=DATE:20261213
DTEND;VALUE=DATE:20261218
SEQUENCE:0
TRANSP:OPAQUE
END:VEVENT
END:VCALENDAR