BEGIN:VCALENDAR
VERSION:2.0
PRODID:-//jEvents 2.0 for Joomla//EN
CALSCALE:GREGORIAN
METHOD:PUBLISH
BEGIN:VEVENT
UID:b8299c07d0eab2b88b220f99398c730e
CATEGORIES:Online
CREATED:20250813T123247
SUMMARY:Effective performance measures for internal audit: influence and impact 
LOCATION:Live\, virtual (UK)
DESCRIPTION:<p>&nbsp;</p><hr /><h5>More information and how to book : <br /><a href="ht
 tps://www.keynotive.io/events/strategic-esg-auditing-masterclass" target="_
 blank" rel="noopener" class="app-aware-link link-without-visited-state">htt
 ps://www.keynotive</a></h5>
CONTACT:Keynotive
X-EXTRAINFO:Keynotive
DTSTAMP:20260426T024904
DTSTART;VALUE=DATE:20260722
DTEND;VALUE=DATE:20260724
SEQUENCE:0
TRANSP:OPAQUE
END:VEVENT
END:VCALENDAR