BEGIN:VCALENDAR
VERSION:2.0
PRODID:-//jEvents 2.0 for Joomla//EN
CALSCALE:GREGORIAN
METHOD:PUBLISH
BEGIN:VEVENT
UID:e9fb4e400b38a4e6b3f6a1fc75af10c2
CATEGORIES:Online
CREATED:20250812T095323
SUMMARY:Subject to be Agreed
LOCATION:Live\, virtual\, Oslo (Norway)
DESCRIPTION:<p>IIA Norway</p>
X-EXTRAINFO:Institute of Internal Auditors Norway
DTSTAMP:20260422T081031
DTSTART:20261027T080000
DTEND:20261027T170000
SEQUENCE:0
TRANSP:OPAQUE
END:VEVENT
END:VCALENDAR