BEGIN:VCALENDAR
VERSION:2.0
PRODID:-//jEvents 2.0 for Joomla//EN
CALSCALE:GREGORIAN
METHOD:PUBLISH
BEGIN:VEVENT
UID:ed1b155daf04598660865baa3decf196
CATEGORIES:Online
CREATED:20250610T061137
SUMMARY:Auditing Human Resources and People Risk 
LOCATION:Live\, virtual\, Sydney (Australia)
DESCRIPTION:<p><a href="https://iia.org.au/learning/training-courses/public-training-co
 urses">https://iia.org.au/learning/training-courses/public-training-courses
 </a></p>
CONTACT:https://iia.org.au/learnDevel/eventdetail.aspx?ID=7188
X-EXTRAINFO:Institute of Internal Auditors Australia
DTSTAMP:20260426T023513
DTSTART:20260812T080000
DTEND:20260813T170000
SEQUENCE:0
TRANSP:OPAQUE
END:VEVENT
END:VCALENDAR