BEGIN:VCALENDAR
VERSION:2.0
PRODID:-//jEvents 2.0 for Joomla//EN
CALSCALE:GREGORIAN
METHOD:PUBLISH
BEGIN:VEVENT
UID:fb75ebdfaaaff394d737d5d616cbdc28
CATEGORIES:Online
CREATED:20250604T053602
SUMMARY:Auditing Compliance
LOCATION:Live\, virtual\, Sydney (Australia)
DESCRIPTION:https://iia.org.au/learning/training-courses/public-training-courses (https
 ://iia.org.au/learning/training-courses/public-training-courses)\n
X-ALT-DESC;FMTTYPE=text/html:<p><a href="https://iia.org.au/learning/training-courses/public-training-co
 urses">https://iia.org.au/learning/training-courses/public-training-courses
 </a></p>
CONTACT:https://iia.org.au/learnDevel/eventdetail.aspx?ID=7188
X-EXTRAINFO:Institute of Internal Auditors Australia
DTSTAMP:20260422T075343
DTSTART:20261028T080000
DTEND:20261029T170000
SEQUENCE:0
TRANSP:OPAQUE
END:VEVENT
END:VCALENDAR