BEGIN:VCALENDAR
VERSION:2.0
PRODID:-//jEvents 2.0 for Joomla//EN
CALSCALE:GREGORIAN
METHOD:PUBLISH
BEGIN:VEVENT
UID:3c70a9181293095573ed6a8dafae17a2
CATEGORIES:Online
CREATED:20250604T053546
SUMMARY:Auditing Third Party Risk
LOCATION:Live\, virtual\, Sydney (Australia)
DESCRIPTION:https://iia.org.au/learning/training-courses/public-training-courses (https
 ://iia.org.au/learning/training-courses/public-training-courses)\n
X-ALT-DESC;FMTTYPE=text/html:<p><a href="https://iia.org.au/learning/training-courses/public-training-co
 urses">https://iia.org.au/learning/training-courses/public-training-courses
 </a></p>
CONTACT:https://iia.org.au/learnDevel/eventdetail.aspx?ID=7188
X-EXTRAINFO:Institute of Internal Auditors Australia
DTSTAMP:20260426T024258
DTSTART:20260810T080000
DTEND:20260811T170000
SEQUENCE:0
TRANSP:OPAQUE
END:VEVENT
END:VCALENDAR