BEGIN:VCALENDAR
VERSION:2.0
PRODID:-//jEvents 2.0 for Joomla//EN
CALSCALE:GREGORIAN
METHOD:PUBLISH
BEGIN:VEVENT
UID:f890c7b4f3420b5086282ff2643c1b98
CATEGORIES:Online
CREATED:20250604T053502
SUMMARY:Critical Internal Audit Soft Skills 
LOCATION:Live\, virtual\, Sydney (Australia)
DESCRIPTION:<p><a href="https://iia.org.au/learning/training-courses/public-training-co
 urses">https://iia.org.au/learning/training-courses/public-training-courses
 </a></p>
CONTACT:https://iia.org.au/learnDevel/eventdetail.aspx?ID=7188
X-EXTRAINFO:Institute of Internal Auditors Australia
DTSTAMP:20260426T024914
DTSTART:20260521T080000
DTEND:20260522T170000
SEQUENCE:0
TRANSP:OPAQUE
END:VEVENT
END:VCALENDAR